BEGIN:VCALENDAR
VERSION:2.0
PRODID:-//appserver-51546c75-nginx-13dbd182d9924c1f83efd8e9cc868cb8//NONSGM
 L kigkonsult.se iCalcreator 2.26.9//
CALSCALE:GREGORIAN
METHOD:PUBLISH
X-FROM-URL:https://227.cupe.ca
X-WR-TIMEZONE:America/Halifax
BEGIN:VTIMEZONE
TZID:America/Halifax
X-LIC-LOCATION:America/Halifax
BEGIN:STANDARD
DTSTART:20251102T020000
TZOFFSETFROM:-0300
TZOFFSETTO:-0400
RDATE:20261101T020000
TZNAME:AST
END:STANDARD
BEGIN:DAYLIGHT
DTSTART:20260308T020000
TZOFFSETFROM:-0400
TZOFFSETTO:-0300
RDATE:20270314T020000
TZNAME:ADT
END:DAYLIGHT
END:VTIMEZONE
BEGIN:VEVENT
UID:ai1ec-1124@227.cupe.ca
DTSTAMP:20260424T121602Z
CATEGORIES:
CONTACT:
DTSTART;TZID=America/Halifax:20250305T170000
DTEND;TZID=America/Halifax:20250305T200000
RRULE:FREQ=MONTHLY;BYDAY=1WE
SUMMARY:General Membership Meeting
URL:https://227.cupe.ca/event/march-general-membership-meeting-elections/
X-COST-TYPE:free
END:VEVENT
BEGIN:VEVENT
UID:ai1ec-1159@227.cupe.ca
DTSTAMP:20260424T121602Z
CATEGORIES:
CONTACT:
DTSTART;TZID=America/Halifax:20251023T173000
DTEND;TZID=America/Halifax:20251023T183000
SUMMARY:CUPE Local 227 Special Meeting
URL:https://227.cupe.ca/event/cupe-local-227-special-meeting/
X-COST-TYPE:free
END:VEVENT
BEGIN:VEVENT
UID:ai1ec-1160@227.cupe.ca
DTSTAMP:20260424T121602Z
CATEGORIES:
CONTACT:
DTSTART;TZID=America/Halifax:20251026T120000
DTEND;TZID=America/Halifax:20251026T160000
SUMMARY:Nova Scotia Federation of Labour Convention 2025
URL:https://227.cupe.ca/event/nova-scotia-federation-of-labour-convention-2
 025/
X-COST-TYPE:free
END:VEVENT
END:VCALENDAR
